BEGIN:VCALENDAR
VERSION:2.0
PRODID:-//Cristina Cazorla - ECPv6.6.0.2//NONSGML v1.0//EN
CALSCALE:GREGORIAN
METHOD:PUBLISH
X-WR-CALNAME:Cristina Cazorla
X-ORIGINAL-URL:https://cristinacazorla.com
X-WR-CALDESC:Eventos para Cristina Cazorla
REFRESH-INTERVAL;VALUE=DURATION:PT1H
X-Robots-Tag:noindex
X-PUBLISHED-TTL:PT1H
BEGIN:VTIMEZONE
TZID:Europe/Madrid
BEGIN:DAYLIGHT
TZOFFSETFROM:+0100
TZOFFSETTO:+0200
TZNAME:CEST
DTSTART:20260329T010000
END:DAYLIGHT
BEGIN:STANDARD
TZOFFSETFROM:+0200
TZOFFSETTO:+0100
TZNAME:CET
DTSTART:20261025T010000
END:STANDARD
END:VTIMEZONE
BEGIN:VEVENT
DTSTART;TZID=Europe/Madrid:20260426T180000
DTEND;TZID=Europe/Madrid:20260426T190000
DTSTAMP:20260424T191310
CREATED:20260316T093147Z
LAST-MODIFIED:20260316T094044Z
UID:1856-1777226400-1777230000@cristinacazorla.com
SUMMARY:Benamor
DESCRIPTION:Gala Homenaje a Pacita Tomás y Alberto Portillo organizada por la Asociación de Profesionales de la Danza de Madrid en el Auditorio Antonio Machado de Madrid a las 18:00h \n  \nCía Cristina Cazorla presenta el ‘BENAMOR’\, coreografía presente en el espectáculo Danzas Solemnes. \nIntérpretes: Cristina Cazorla\, Javier Moreno y David Acero \nCoreografía: Cristina Cazorla \nMúsica: Pablo Luna
URL:https://cristinacazorla.com/agendas/benamor-danzas-solemnes-extracto/
LOCATION:Auditorio Marcelino Camacho\, C. de Lope de Vega\, 40\, Centro\, 28014 Madrid
ATTACH;FMTTYPE=image/jpeg:https://cristinacazorla.com/wp-content/uploads/espectaculo-danzas-solemnes-cristina-cazorla-garcia.jpg
END:VEVENT
END:VCALENDAR