BEGIN:VCALENDAR
VERSION:2.0
PRODID:-//Cristina Cazorla - ECPv6.6.0.2//NONSGML v1.0//EN
CALSCALE:GREGORIAN
METHOD:PUBLISH
X-ORIGINAL-URL:https://cristinacazorla.com
X-WR-CALDESC:Eventos para Cristina Cazorla
REFRESH-INTERVAL;VALUE=DURATION:PT1H
X-Robots-Tag:noindex
X-PUBLISHED-TTL:PT1H
BEGIN:VTIMEZONE
TZID:Europe/Madrid
BEGIN:DAYLIGHT
TZOFFSETFROM:+0100
TZOFFSETTO:+0200
TZNAME:CEST
DTSTART:20250330T010000
END:DAYLIGHT
BEGIN:STANDARD
TZOFFSETFROM:+0200
TZOFFSETTO:+0100
TZNAME:CET
DTSTART:20251026T010000
END:STANDARD
END:VTIMEZONE
BEGIN:VEVENT
DTSTART;TZID=Europe/Madrid:20250830T190000
DTEND;TZID=Europe/Madrid:20250830T200000
DTSTAMP:20260423T005359
CREATED:20250818T181706Z
LAST-MODIFIED:20250818T182005Z
UID:1777-1756580400-1756584000@cristinacazorla.com
SUMMARY:Donde nace el amor - París
DESCRIPTION:Espectáculo de escuela bolera (danza española) y guitarra flamenca en espacio íntimo para disfrutar de primera mano de estas dos artes: la danza y la música. La esencia de la danza española de la mano de Cristina Cazorla al baile y Daniel Jurado a la guitarra.
URL:https://cristinacazorla.com/agendas/donde-nace-el-amor-paris/
LOCATION:Verderonne\, Paris\, Paris
CATEGORIES:CÍA CRISTINA CAZORLA
ATTACH;FMTTYPE=image/jpeg:https://cristinacazorla.com/wp-content/uploads/danza-de-la-guitarra-cristina-cazorla.jpg
END:VEVENT
END:VCALENDAR