BEGIN:VCALENDAR
VERSION:2.0
PRODID:-//Cristina Cazorla - ECPv6.6.0.2//NONSGML v1.0//EN
CALSCALE:GREGORIAN
METHOD:PUBLISH
X-ORIGINAL-URL:https://cristinacazorla.com
X-WR-CALDESC:Eventos para Cristina Cazorla
REFRESH-INTERVAL;VALUE=DURATION:PT1H
X-Robots-Tag:noindex
X-PUBLISHED-TTL:PT1H
BEGIN:VTIMEZONE
TZID:Europe/Madrid
BEGIN:DAYLIGHT
TZOFFSETFROM:+0100
TZOFFSETTO:+0200
TZNAME:CEST
DTSTART:20250330T010000
END:DAYLIGHT
BEGIN:STANDARD
TZOFFSETFROM:+0200
TZOFFSETTO:+0100
TZNAME:CET
DTSTART:20251026T010000
END:STANDARD
END:VTIMEZONE
BEGIN:VEVENT
DTSTART;TZID=Europe/Madrid:20250325T203000
DTEND;TZID=Europe/Madrid:20250325T213000
DTSTAMP:20260423T090941
CREATED:20250311T115507Z
LAST-MODIFIED:20250311T115532Z
UID:1678-1742934600-1742938200@cristinacazorla.com
SUMMARY:Danza sobre papel - Diego Agudo Pinilla
DESCRIPTION:Proyección de animaciones de Diego Agudo Pinilla con la participación de la bailarina Cristina Cazorla. \nPrograma danza: \n‘A mi aire’ coreografía: Betty \n‘Viva Navarra’ coreografía: Betty \n‘Por la alameda’ coreografía: Paco Pozo \n  \nEntrada libre hasta completar aforo
URL:https://cristinacazorla.com/agendas/danza-sobre-papel/
LOCATION:Teatro El Albeitar\, Leon\, Av. Facultad de Veterinaria\, 25\, 24004 León\, España
CATEGORIES:GALAS
ATTACH;FMTTYPE=image/jpeg:https://cristinacazorla.com/wp-content/uploads/Danza-sobre-papel.jpg
END:VEVENT
END:VCALENDAR