BEGIN:VCALENDAR
VERSION:2.0
PRODID:-//Cristina Cazorla - ECPv6.6.0.2//NONSGML v1.0//EN
CALSCALE:GREGORIAN
METHOD:PUBLISH
X-ORIGINAL-URL:https://cristinacazorla.com
X-WR-CALDESC:Eventos para Cristina Cazorla
REFRESH-INTERVAL;VALUE=DURATION:PT1H
X-Robots-Tag:noindex
X-PUBLISHED-TTL:PT1H
BEGIN:VTIMEZONE
TZID:Europe/Madrid
BEGIN:DAYLIGHT
TZOFFSETFROM:+0100
TZOFFSETTO:+0200
TZNAME:CEST
DTSTART:20260329T010000
END:DAYLIGHT
BEGIN:STANDARD
TZOFFSETFROM:+0200
TZOFFSETTO:+0100
TZNAME:CET
DTSTART:20261025T010000
END:STANDARD
END:VTIMEZONE
BEGIN:VEVENT
DTSTART;TZID=Europe/Madrid:20260117T200000
DTEND;TZID=Europe/Madrid:20260117T213000
DTSTAMP:20260422T152831
CREATED:20260109T130623Z
LAST-MODIFIED:20260109T130623Z
UID:1822-1768680000-1768685400@cristinacazorla.com
SUMMARY:Danzas Solemnes
DESCRIPTION:‘Danzas solemnes’\, la cuarta producción de Cía Cristina Cazorla\, una apuesta grupal que parte desde la creación de ‘Orimel’ en 2019 ganadora de varios reconocimientos en los certámenes coreográficos de Madrid. \nUn recorrido por la danza española más elegante y racial que viaja por diferentes ambientes propios de la escena española a través de la música clásica española más representativa de J. Rodrigo\, C. Debussy\, J. Turina\, P. Luna entre otros. \n  \nIntérpretes: Cristina Cazorla\, Susana Algora\, Isabel Serrano\, Borja Martínez y Adrián Gómez. \nDiseño de Iluminación: Edgar Calot \nMúsicas: Claude Debussy\, Ruperto Chapí\, Álex Pernas\, Gaspar Sanz\, Lucas Ruiz de Ribayaz\, Joaquín Rodrigo\, Joaquín Turina\, Pablo Luna. \n 
URL:https://cristinacazorla.com/agendas/danzas-solemnes-2/
LOCATION:Casa de la Cultura Carmen Conde de Majadahonda\, Pl. Cristóbal Colón\, 28220 Majadahonda\, Madrid
CATEGORIES:CÍA CRISTINA CAZORLA
ATTACH;FMTTYPE=image/jpeg:https://cristinacazorla.com/wp-content/uploads/Danzas-solemnes_escuela-bolera_cristina-cazorla.jpg
END:VEVENT
BEGIN:VEVENT
DTSTART;VALUE=DATE:20260126
DTEND;VALUE=DATE:20260127
DTSTAMP:20260422T152831
CREATED:20260115T155426Z
LAST-MODIFIED:20260115T155426Z
UID:1852-1769385600-1769471999@cristinacazorla.com
SUMMARY:Masterclass Escuela Bolera
DESCRIPTION:Masterclass de Escuela Bolera en CPD Albacete \nHorario: 16:00-21:00h
URL:https://cristinacazorla.com/agendas/masterclass-escuela-bolera-3/
LOCATION:CPD Albacete\, Av. la Mancha\, 5\, 02005 Albacete
CATEGORIES:CURSOS
ATTACH;FMTTYPE=image/jpeg:https://cristinacazorla.com/wp-content/uploads/IMG_4469-2-3.jpg
END:VEVENT
BEGIN:VEVENT
DTSTART;TZID=Europe/Madrid:20260127T200000
DTEND;TZID=Europe/Madrid:20260127T213000
DTSTAMP:20260422T152831
CREATED:20260109T131120Z
LAST-MODIFIED:20260109T164754Z
UID:1826-1769544000-1769549400@cristinacazorla.com
SUMMARY:Danzas Solemnes. Estreno Oficial
DESCRIPTION:‘Danzas solemnes’\, la cuarta producción de Cía Cristina Cazorla\, una apuesta grupal que parte desde la creación de ‘Orimel’ en 2019 ganadora de varios reconocimientos en los certámenes coreográficos de Madrid. \nUn recorrido por la danza española más elegante y racial que viaja por diferentes ambientes propios de la escena española a través de la música clásica española más representativa de J. Rodrigo\, C. Debussy\, J. Turina\, P. Luna entre otros. \n  \nIntérpretes: Cristina Cazorla\, Susana Algora\, Isabel Serrano\, Javier Moreno y Adrián Gómez. \nDiseño de Iluminación: Edgar Calot \nMúsicas: Claude Debussy\, Ruperto Chapí\, Constantinople\, Gaspar Sanz\, Lucas Ruiz de Ribayaz\, Joaquín Rodrigo\, Joaquín Turina\, Pablo Luna. \n 
URL:https://cristinacazorla.com/agendas/danzas-solemnes-3/
LOCATION:Teatro Circo de Albacete
CATEGORIES:CÍA CRISTINA CAZORLA
ATTACH;FMTTYPE=image/jpeg:https://cristinacazorla.com/wp-content/uploads/Danzas-solemnes_escuela-bolera_cristina-cazorla.jpg
END:VEVENT
END:VCALENDAR