BEGIN:VCALENDAR
VERSION:2.0
PRODID:-//Cristina Cazorla - ECPv6.6.0.2//NONSGML v1.0//EN
CALSCALE:GREGORIAN
METHOD:PUBLISH
X-WR-CALNAME:Cristina Cazorla
X-ORIGINAL-URL:https://cristinacazorla.com
X-WR-CALDESC:Eventos para Cristina Cazorla
REFRESH-INTERVAL;VALUE=DURATION:PT1H
X-Robots-Tag:noindex
X-PUBLISHED-TTL:PT1H
BEGIN:VTIMEZONE
TZID:Europe/Madrid
BEGIN:DAYLIGHT
TZOFFSETFROM:+0100
TZOFFSETTO:+0200
TZNAME:CEST
DTSTART:20250330T010000
END:DAYLIGHT
BEGIN:STANDARD
TZOFFSETFROM:+0200
TZOFFSETTO:+0100
TZNAME:CET
DTSTART:20251026T010000
END:STANDARD
END:VTIMEZONE
BEGIN:VEVENT
DTSTART;TZID=Europe/Madrid:20250707T100000
DTEND;TZID=Europe/Madrid:20250712T140000
DTSTAMP:20260423T005106
CREATED:20250311T130930Z
LAST-MODIFIED:20250311T130930Z
UID:1715-1751882400-1752328800@cristinacazorla.com
SUMMARY:Danza Española Summer Program 2025
DESCRIPTION:Curso de danza española: Ballet\, Escuela Bolera y D. Estilizada. Durante una semana de formación el alumnado aprenderá las disciplinas de danza española a través de variaciones creadas por figuras de renombre actual realizando una muestra el último día de curso para completar su formación. \nProfesorado: Daniel Vizcayo (Ballet)\, Débora Martínez (Escuela Bolera) y Sara Jiménez  (D. Estilizada) \nUbicación: Broadway House Madrid (Marqués de Vadillo) \nMuestra abierta: sábado 12 julio en CC Eduardo Urculo (Madrid) \n  \n¡PLAZAS LIMITADAS! \nAbiertas inscripciones aquí: \nhttps://docs.google.com/forms/d/e/1FAIpQLSflM9h_bCOrMB08hkH-6WSbUjZjnNvEQH_r24-dVnngHYa-2g/viewform?fbclid=PAZXh0bgNhZW0CMTEAAaZ1BJnEpQpDV5FJLzkm1i_48LX6ilOYV2Dbd9yCAzkSHQXkFU1naQqDgPI_aem_5irrMm09QnTToKGkXUUlBw
URL:https://cristinacazorla.com/agendas/danza-espanola-summer-program-2025/
LOCATION:Broadway House Madrid\, C. Antonio Vicent\, 65\, Carabanchel\, 28019 Madrid\, España
CATEGORIES:CURSOS
ATTACH;FMTTYPE=image/jpeg:https://cristinacazorla.com/wp-content/uploads/summer-program-2025.jpg
ORGANIZER;CN="DANZA ESPA%C3%91OLA S-W PROGRAM":MAILTO:summerprogram.2022@gmail.com
END:VEVENT
END:VCALENDAR