BEGIN:VCALENDAR
VERSION:2.0
PRODID:-//Cristina Cazorla - ECPv6.6.0.2//NONSGML v1.0//EN
CALSCALE:GREGORIAN
METHOD:PUBLISH
X-ORIGINAL-URL:https://cristinacazorla.com
X-WR-CALDESC:Eventos para Cristina Cazorla
REFRESH-INTERVAL;VALUE=DURATION:PT1H
X-Robots-Tag:noindex
X-PUBLISHED-TTL:PT1H
BEGIN:VTIMEZONE
TZID:Europe/Madrid
BEGIN:DAYLIGHT
TZOFFSETFROM:+0100
TZOFFSETTO:+0200
TZNAME:CEST
DTSTART:20250330T010000
END:DAYLIGHT
BEGIN:STANDARD
TZOFFSETFROM:+0200
TZOFFSETTO:+0100
TZNAME:CET
DTSTART:20251026T010000
END:STANDARD
END:VTIMEZONE
BEGIN:VEVENT
DTSTART;TZID=Europe/Madrid:20250509T203000
DTEND;TZID=Europe/Madrid:20250509T213000
DTSTAMP:20260423T040012
CREATED:20250327T103606Z
LAST-MODIFIED:20250402T161659Z
UID:1732-1746822600-1746826200@cristinacazorla.com
SUMMARY:MADRILEÑA
DESCRIPTION:Madrileña de nacimiento\, Cristina Cazorla pretende regalar al público un paseo por su ciudad\, sus costumbres y su esencia.  Con cuatro artistas en escena\, tres músicos en directo y la bailarina\, el espectáculo viaja a través de músicas tan representativas de la ciudad como el chotis o el mismo Pichi; épocas y ambientes como el Madrid de los Austrias más elegante\, la estética goyesca\, la ciudad del s. XXI que vive deprisa y sin parar\, la copla o la Movida Madrileña. Un paseo de un día completo desde la visión de una ‘gata’ madrileña. \n‘Madrileña es el pequeño gran homenaje que Cristina Cazorla quiere rendir a su ciudad.’ \n  \nDanza y coreografía: Cristina Cazorla \nMúsica en directo: Álvaro Toscano\, Mariví Blasco\, Nacho Carnota \n  \nCompra tu entrada ya\, aquí: \nhttps://teatroaranjuez.es/cartelera/madrilena-cia-cristina-cazorla/ \n 
URL:https://cristinacazorla.com/agendas/madrilena-4/
LOCATION:Real Teatro Carlos III Aranjuez\, C. de San Antonio\, 68\, 28300 Aranjuez\, Madrid\, España
CATEGORIES:CÍA CRISTINA CAZORLA
ATTACH;FMTTYPE=image/jpeg:https://cristinacazorla.com/wp-content/uploads/Madrilena.jpg
END:VEVENT
END:VCALENDAR