BEGIN:VCALENDAR
VERSION:2.0
PRODID:-//Cristina Cazorla - ECPv6.6.0.2//NONSGML v1.0//EN
CALSCALE:GREGORIAN
METHOD:PUBLISH
X-WR-CALNAME:Cristina Cazorla
X-ORIGINAL-URL:https://cristinacazorla.com
X-WR-CALDESC:Eventos para Cristina Cazorla
REFRESH-INTERVAL;VALUE=DURATION:PT1H
X-Robots-Tag:noindex
X-PUBLISHED-TTL:PT1H
BEGIN:VTIMEZONE
TZID:Europe/Madrid
BEGIN:DAYLIGHT
TZOFFSETFROM:+0100
TZOFFSETTO:+0200
TZNAME:CEST
DTSTART:20250330T010000
END:DAYLIGHT
BEGIN:STANDARD
TZOFFSETFROM:+0200
TZOFFSETTO:+0100
TZNAME:CET
DTSTART:20251026T010000
END:STANDARD
END:VTIMEZONE
BEGIN:VEVENT
DTSTART;TZID=Europe/Madrid:20250405T123000
DTEND;TZID=Europe/Madrid:20250405T140000
DTSTAMP:20260423T053821
CREATED:20250318T231519Z
LAST-MODIFIED:20250318T231540Z
UID:1725-1743856200-1743861600@cristinacazorla.com
SUMMARY:Masterclass Escuela Bolera
DESCRIPTION:Masterclass de Escuela Bolera por el mes de la danza en la Escuela de Danza de Pepe Vento de Alcalá de Henares (Madrid) \nHorario: 12:30-14:00h
URL:https://cristinacazorla.com/agendas/masterclass-escuela-bolera-2/
LOCATION:Escuela de Danza Pepe Vento\, C. Ribera\, 16\, 28805 Alcalá de Henares\, Madrid\, España
CATEGORIES:CURSOS
ATTACH;FMTTYPE=image/jpeg:https://cristinacazorla.com/wp-content/uploads/IMG_4469-2-3.jpg
END:VEVENT
BEGIN:VEVENT
DTSTART;TZID=Europe/Madrid:20250411T203000
DTEND;TZID=Europe/Madrid:20250411T220000
DTSTAMP:20260423T053821
CREATED:20250311T121300Z
LAST-MODIFIED:20250327T110559Z
UID:1688-1744403400-1744408800@cristinacazorla.com
SUMMARY:Orimel y Concierto de Aranjuez
DESCRIPTION:‘Orimel’ pieza creada en 2019\, ganadora de diversos premios en los certámenes coreográficos de Madrid\, se amplía en 2025 mediante la música antigua para magnificar una escena de corte elegante que explota el caracter clásico y virtuosismo de la Escuela Bolera tradicional. ‘Concierto de Aranjuez’ es la pieza de nueva creación que complementa a ‘Orimel’ con la majestuosa composición de Joaquín Rodrigo. \nCía Cristina Cazorla se presenta como Compañía Invitada en la Gala CPD José Granero de Puertollano en el Auditorio de Puertollano. \nIntérpretes: Cristina Cazorla\, Susana Algora\, Isabel Serrano\, Borja Martínez y Adrián Gómez. \nIluminación: David Naranjo \nMúsicas: Claude Debussy\, Ruperto Chapí\, Constantinople\, Gaspar Sanz\, Lucas Ruiz de Ribayaz\, Joaquín Rodrigo
URL:https://cristinacazorla.com/agendas/orimel-y-concierto-de-aranjuez-extracto-danzas-solemnes/
LOCATION:Auditorio Municipal de Puertollano\, Pl. Mariana Pineda\, 0\, 13500 Puertollano\, Ciudad Real\, España
CATEGORIES:CÍA CRISTINA CAZORLA
ATTACH;FMTTYPE=image/jpeg:https://cristinacazorla.com/wp-content/uploads/Danzas-solemnes_escuela-bolera_cristina-cazorla.jpg
END:VEVENT
BEGIN:VEVENT
DTSTART;TZID=Europe/Madrid:20250418T200000
DTEND;TZID=Europe/Madrid:20250418T210000
DTSTAMP:20260423T053821
CREATED:20250311T122349Z
LAST-MODIFIED:20250311T125421Z
UID:1692-1745006400-1745010000@cristinacazorla.com
SUMMARY:Danza bolera y guitarra española
DESCRIPTION:Espectáculo de danza\, formato concierto con intervenciones explicativas del repertorio interpretado: J. Arcas\, F. Tarrega\, I. Albéniz\, G. Sanz. El objetivo del proyecto está en el acercamiento de la música y la danza de calidad al público general de manera íntima y distendida\, creando un espacio de arte en vivo en primera fila. \nDanza española (escuela bolera): Cristina Cazorla\nGuitarra española: Álvaro Toscano \n  \nLugar: The Horton Epsom. Horton Chapel Arts and Heritage Society (UK) \nHora: 20:00h \nPrecio: 10euros (venta en taquilla desde el 20 de enero)
URL:https://cristinacazorla.com/agendas/danza-bolera-y-guitarra-espanola-en-the-horton-space-uk/
LOCATION:Horton Chapel Arts And Heritage Society\, The Horton Arts Centre\, Haven Way\, Epsom KT19 8NP\, Reino Unido
CATEGORIES:CÍA CRISTINA CAZORLA
ATTACH;FMTTYPE=image/jpeg:https://cristinacazorla.com/wp-content/uploads/espectaculo-escuela-bolera-guitarra-cristina-cazorla.jpg
END:VEVENT
BEGIN:VEVENT
DTSTART;TZID=Europe/Madrid:20250419T200000
DTEND;TZID=Europe/Madrid:20250419T210000
DTSTAMP:20260423T053821
CREATED:20250311T123711Z
LAST-MODIFIED:20250311T123733Z
UID:1699-1745092800-1745096400@cristinacazorla.com
SUMMARY:Echoes of Spain Concert
DESCRIPTION:Como parte del Horton Festival of Spanish Music and Dance \nUn concierto de voz soprano\, piano y danza española para difundir el legado de la cultura española fuera de nuestras fronteras. \nCristina Cazorla\, Dancer\nJennifer Ramírez Mezzo\nJosé Vicente Riquelme\, Piano
URL:https://cristinacazorla.com/agendas/echoes-of-spain-concert/
LOCATION:Horton Chapel Arts And Heritage Society\, The Horton Arts Centre\, Haven Way\, Epsom KT19 8NP\, Reino Unido
CATEGORIES:GALAS
ATTACH;FMTTYPE=image/png:https://cristinacazorla.com/wp-content/uploads/Festival-of-spanish-dance-and-music.png
END:VEVENT
END:VCALENDAR