BEGIN:VCALENDAR
VERSION:2.0
PRODID:-//Cristina Cazorla - ECPv6.6.0.2//NONSGML v1.0//EN
CALSCALE:GREGORIAN
METHOD:PUBLISH
X-WR-CALNAME:Cristina Cazorla
X-ORIGINAL-URL:https://cristinacazorla.com
X-WR-CALDESC:Eventos para Cristina Cazorla
REFRESH-INTERVAL;VALUE=DURATION:PT1H
X-Robots-Tag:noindex
X-PUBLISHED-TTL:PT1H
BEGIN:VTIMEZONE
TZID:Europe/Madrid
BEGIN:DAYLIGHT
TZOFFSETFROM:+0100
TZOFFSETTO:+0200
TZNAME:CEST
DTSTART:20250330T010000
END:DAYLIGHT
BEGIN:STANDARD
TZOFFSETFROM:+0200
TZOFFSETTO:+0100
TZNAME:CET
DTSTART:20251026T010000
END:STANDARD
END:VTIMEZONE
BEGIN:VEVENT
DTSTART;VALUE=DATE:20250727
DTEND;VALUE=DATE:20250802
DTSTAMP:20260425T050906
CREATED:20250328T093723Z
LAST-MODIFIED:20250627T124322Z
UID:1756-1753574400-1754092799@cristinacazorla.com
SUMMARY:Gira Italia. SBDC
DESCRIPTION:Espectáculo ‘Una noche con Sergio Bernal’ de Sergio Bernal Dance Company en Italia
URL:https://cristinacazorla.com/agendas/ser-sbdc-madrid/
LOCATION:Italia
CATEGORIES:Otras compañias
ATTACH;FMTTYPE=image/jpeg:https://cristinacazorla.com/wp-content/uploads/Sergio-Bernal-Dance-Company.jpg
END:VEVENT
END:VCALENDAR