BEGIN:VCALENDAR
VERSION:2.0
PRODID:-//Cristina Cazorla - ECPv6.6.0.2//NONSGML v1.0//EN
CALSCALE:GREGORIAN
METHOD:PUBLISH
X-ORIGINAL-URL:https://cristinacazorla.com
X-WR-CALDESC:Eventos para Cristina Cazorla
REFRESH-INTERVAL;VALUE=DURATION:PT1H
X-Robots-Tag:noindex
X-PUBLISHED-TTL:PT1H
BEGIN:VTIMEZONE
TZID:Europe/Madrid
BEGIN:DAYLIGHT
TZOFFSETFROM:+0100
TZOFFSETTO:+0200
TZNAME:CEST
DTSTART:20260329T010000
END:DAYLIGHT
BEGIN:STANDARD
TZOFFSETFROM:+0200
TZOFFSETTO:+0100
TZNAME:CET
DTSTART:20261025T010000
END:STANDARD
END:VTIMEZONE
BEGIN:VEVENT
DTSTART;TZID=Europe/Madrid:20260131T190000
DTEND;TZID=Europe/Madrid:20260131T200000
DTSTAMP:20260420T022852
CREATED:20260115T155049Z
LAST-MODIFIED:20260115T155049Z
UID:1850-1769886000-1769889600@cristinacazorla.com
SUMMARY:Muller Nova - Beta Pública
DESCRIPTION:Muller Nova parte del folclore astur-gallego y reflexiona sobre la tradición y la actualidad\, estableciendo un diálogo de contraste entre la estética folclórica más tradicional y la cultura actual\, dando voz a la fuerza y determinación de la mujer libre. Esta mujer baila sola rompiendo con el canon tradicional de la mujer en los bailes de raíz. Un canto a la libertad\, un grito de ruptura hacia cánones establecidos\, una ofrenda a nuestros ancestros\, punto de partida de evolución a lo que somos y seremos. Muller Nova es la traducción de Mujer joven en gallego. Una mujer que vive su presente sin negar su pasado. \n  \nCoreografía: Cristina Cazorla \nInterpretación: María Belchí \n  \nActuación dentro de la programación de Una Tarde en Danza de Beta Pública
URL:https://cristinacazorla.com/agendas/muller-nova-beta-publica/
LOCATION:Centro Cultural Paco Rabal\, Madrid\, Calle de Felipe de Diego 13 - Madrid (MADRID)
CATEGORIES:CÍA CRISTINA CAZORLA,GALAS
ATTACH;FMTTYPE=image/jpeg:https://cristinacazorla.com/wp-content/uploads/muller-nova-danza.jpg
END:VEVENT
END:VCALENDAR