BEGIN:VCALENDAR
VERSION:2.0
PRODID:-//Cristina Cazorla - ECPv6.6.0.2//NONSGML v1.0//EN
CALSCALE:GREGORIAN
METHOD:PUBLISH
X-WR-CALNAME:Cristina Cazorla
X-ORIGINAL-URL:https://cristinacazorla.com
X-WR-CALDESC:Eventos para Cristina Cazorla
REFRESH-INTERVAL;VALUE=DURATION:PT1H
X-Robots-Tag:noindex
X-PUBLISHED-TTL:PT1H
BEGIN:VTIMEZONE
TZID:Europe/Madrid
BEGIN:DAYLIGHT
TZOFFSETFROM:+0100
TZOFFSETTO:+0200
TZNAME:CEST
DTSTART:20260329T010000
END:DAYLIGHT
BEGIN:STANDARD
TZOFFSETFROM:+0200
TZOFFSETTO:+0100
TZNAME:CET
DTSTART:20261025T010000
END:STANDARD
END:VTIMEZONE
BEGIN:VEVENT
DTSTART;TZID=Europe/Madrid:20260516T200000
DTEND;TZID=Europe/Madrid:20260516T210000
DTSTAMP:20260422T214721
CREATED:20260316T094003Z
LAST-MODIFIED:20260316T094003Z
UID:1860-1778961600-1778965200@cristinacazorla.com
SUMMARY:Alma Ibérica
DESCRIPTION:‘»ALMA IBÉRICA»\, un espectáculo de danza clásica española que se presentará el sábado 16 de mayo de 2026 en el lujoso escenario de Space St Pierre en SENLIS\, París\n\nCristina Cazorla figura de la danza contemporánea española\, reconocida por su virtuosidad\, creatividad y compromiso para hacer que las formas clásicas de la danza española vivan y renueven\, incluyendo la escuela bolera’ Art Gallery Constantin France.\n\nCoreografía: Cristina Cazorla\nIntérpretes: Susana Algora\, Isabel Serrano\, José Alarcón y David Acero
URL:https://cristinacazorla.com/agendas/alma-iberica-en-paris/
LOCATION:Espace St Pierre\, 3 Place Henri IV 60300 SENLIS\, Senlis\, París
CATEGORIES:CÍA CRISTINA CAZORLA
ATTACH;FMTTYPE=image/jpeg:https://cristinacazorla.com/wp-content/uploads/espectaculo-danzas-solemnes-cristina-cazorla-garcia.jpg
END:VEVENT
END:VCALENDAR