BEGIN:VCALENDAR
VERSION:2.0
PRODID:-//Cristina Cazorla - ECPv6.6.0.2//NONSGML v1.0//EN
CALSCALE:GREGORIAN
METHOD:PUBLISH
X-WR-CALNAME:Cristina Cazorla
X-ORIGINAL-URL:https://cristinacazorla.com
X-WR-CALDESC:Eventos para Cristina Cazorla
REFRESH-INTERVAL;VALUE=DURATION:PT1H
X-Robots-Tag:noindex
X-PUBLISHED-TTL:PT1H
BEGIN:VTIMEZONE
TZID:Europe/Madrid
BEGIN:DAYLIGHT
TZOFFSETFROM:+0100
TZOFFSETTO:+0200
TZNAME:CEST
DTSTART:20250330T010000
END:DAYLIGHT
BEGIN:STANDARD
TZOFFSETFROM:+0200
TZOFFSETTO:+0100
TZNAME:CET
DTSTART:20251026T010000
END:STANDARD
END:VTIMEZONE
BEGIN:VEVENT
DTSTART;TZID=Europe/Madrid:20250906T200000
DTEND;TZID=Europe/Madrid:20250906T210000
DTSTAMP:20260423T073916
CREATED:20250327T111633Z
LAST-MODIFIED:20250327T115200Z
UID:1740-1757188800-1757192400@cristinacazorla.com
SUMMARY:Danzas solemnes
DESCRIPTION:Preestreno de ‘Danzas solemnes’\, la cuarta producción de Cía Cristina Cazorla\, una apuesta grupal que parte desde la creación de ‘Orimel’ en 2019 ganadora de varios reconocimientos en los certámenes coreográficos de Madrid.  \nUn recorrido por la danza española más elegante y racial que viaja por diferentes ambientes propios de la escena española a través de la música clásica española más representativa de J. Rodrigo\, C. Debussy\, J. Turina\, P. Luna entre otros. \n  \nIntérpretes: Cristina Cazorla\, Susana Algora\, Isabel Serrano\, Borja Martínez y Adrián Gómez. \nDiseño de Iluminación: Edgar Calot \nMúsicas: Claude Debussy\, Ruperto Chapí\, Constantinople\, Gaspar Sanz\, Lucas Ruiz de Ribayaz\, Joaquín Rodrigo\, Joaquín Turina\, Pablo Luna. \nVestuario: Carmen Sánchez ‘La Genara’\, Maricruz&Montecarlo
URL:https://cristinacazorla.com/agendas/danzas-solemnes-preestreno/
LOCATION:Centro Cultural Paco Rabal\, C. de Felipe de Diego\, 13\, Puente de Vallecas\, 28018 Madrid\, España
CATEGORIES:CÍA CRISTINA CAZORLA
ATTACH;FMTTYPE=image/jpeg:https://cristinacazorla.com/wp-content/uploads/Danzas-solemnes_escuela-bolera_cristina-cazorla.jpg
END:VEVENT
END:VCALENDAR