BEGIN:VCALENDAR
VERSION:2.0
PRODID:-//Cristina Cazorla - ECPv6.6.0.2//NONSGML v1.0//EN
CALSCALE:GREGORIAN
METHOD:PUBLISH
X-ORIGINAL-URL:https://cristinacazorla.com
X-WR-CALDESC:Eventos para Cristina Cazorla
REFRESH-INTERVAL;VALUE=DURATION:PT1H
X-Robots-Tag:noindex
X-PUBLISHED-TTL:PT1H
BEGIN:VTIMEZONE
TZID:Europe/Madrid
BEGIN:DAYLIGHT
TZOFFSETFROM:+0100
TZOFFSETTO:+0200
TZNAME:CEST
DTSTART:20240331T010000
END:DAYLIGHT
BEGIN:STANDARD
TZOFFSETFROM:+0200
TZOFFSETTO:+0100
TZNAME:CET
DTSTART:20241027T010000
END:STANDARD
END:VTIMEZONE
BEGIN:VEVENT
DTSTART;TZID=Europe/Madrid:20241129T190000
DTEND;TZID=Europe/Madrid:20241129T200000
DTSTAMP:20260425T204939
CREATED:20240930T181244Z
LAST-MODIFIED:20240930T181244Z
UID:1590-1732906800-1732910400@cristinacazorla.com
SUMMARY:Gala Final Premios Madroño 2024. 'MADRILEÑA' (extracto)
DESCRIPTION:Gala Final de Premiados ‘Premios Madroño’ 2024 \n  \nCristina Cazorla como premiada de la XXXII Edición del Certamen Jóvenes Creadores del Ayuntamiento de Madrid\, actuará con su pieza ganadora ‘Madrileña’ en la Gala Final de Premiados. \n29 noviembre a las 19:00h en el Teatro Quique San Francisco (Madrid) \n  \nIntérprete y coreografía: Cristina Cazorla \nMúsica original: Maria Jesús Amaro interpretada por Álvaro Toscano (guitarra española)\, Nacho Carnota (violín) y Mariví Blasco (soprano).
URL:https://cristinacazorla.com/agendas/gala-final-premios-madrono-2024-madrilena-extracto/
LOCATION:Teatro Quique San Francisco\, C. de Galileo\, 39\, Chamberí\, 28015 Madrid\, España
CATEGORIES:CÍA CRISTINA CAZORLA
ATTACH;FMTTYPE=image/jpeg:https://cristinacazorla.com/wp-content/uploads/Madrilena.jpg
END:VEVENT
END:VCALENDAR