BEGIN:VCALENDAR
VERSION:2.0
PRODID:-//Cristina Cazorla - ECPv6.6.0.2//NONSGML v1.0//EN
CALSCALE:GREGORIAN
METHOD:PUBLISH
X-WR-CALNAME:Cristina Cazorla
X-ORIGINAL-URL:https://cristinacazorla.com
X-WR-CALDESC:Eventos para Cristina Cazorla
REFRESH-INTERVAL;VALUE=DURATION:PT1H
X-Robots-Tag:noindex
X-PUBLISHED-TTL:PT1H
BEGIN:VTIMEZONE
TZID:Europe/Madrid
BEGIN:DAYLIGHT
TZOFFSETFROM:+0100
TZOFFSETTO:+0200
TZNAME:CEST
DTSTART:20240331T010000
END:DAYLIGHT
BEGIN:STANDARD
TZOFFSETFROM:+0200
TZOFFSETTO:+0100
TZNAME:CET
DTSTART:20241027T010000
END:STANDARD
END:VTIMEZONE
BEGIN:VEVENT
DTSTART;TZID=Europe/Madrid:20240926T193000
DTEND;TZID=Europe/Madrid:20240926T210000
DTSTAMP:20260426T013106
CREATED:20240924T201900Z
LAST-MODIFIED:20240924T202245Z
UID:1582-1727379000-1727384400@cristinacazorla.com
SUMMARY:Coloquio en el Centro Riojano de Madrid
DESCRIPTION:El Centro Riojano de Madrid organiza el próximo jueves 26 de septiembre a las 19:30h un coloquio por el Ciclo ‘Periodismo y relaciones internacionales‘ sobre ‘la integración de la danza en las relaciones internacionales y sus aportaciones al mundo de la cultura\, la educación y la sociedad.’ \n¿Es la Danza una expresión de integración\, resolución de conflictos y entendimiento entre los pueblos?\n¿Cómo intervienen los coreógrafos\, educadores\, historiadores\, gestores y críticos para la evolución de la Danza? Todas estas cuestiones y más\, serán expuestas por expertos de los distintos sectores. \nDirige y modera Juan Ignacio Vecino. Periodista. Director de la revista www.patrimonioactual.com.\nMiembro del Consejo Internacional de la Danza de la UNESCO (CID-UNESCO).\nIntervienen: Maria Herrera\, directora del Festival «Encuentro con los Maestros»\, Cristina Cazorla\, bailarina\, coreógrafa y empresaria\, y Manuela Herrera\, directora del Conservatorio Profesional de Música Teresa Berganza. \nPresentado por José Antonio Rupérez Caño. Presidente del Centro Riojano de Madrid. \nAl finalizar el acto se servirá un vino ofrecido por Excepcional Products \n  \nCentro Riojano de Madrid – Serrano\, 25. Madrid \n Jueves\, 26 de septiembre de 2024 a las 19:30 horas\nCon la colaboración del Gobierno de La Rioja
URL:https://cristinacazorla.com/agendas/coloquio-en-el-centro-riojano-de-madrid/
LOCATION:Centro Riojano de Madrid\, Serrano\, 25\, Madrid\, España
CATEGORIES:CÍA CRISTINA CAZORLA
ATTACH;FMTTYPE=image/jpeg:https://cristinacazorla.com/wp-content/uploads/IMG_5561-2-3.jpg
END:VEVENT
END:VCALENDAR